{
 "version": 1.0,
 "tileBundlesPath": "./tile",
 "storageInfo": {
  "packetSize": 128,
  "storageFormat": "esriMapCacheStorageModeCompactV2"
 },
 "tileImageInfo": {
  "format": "PNG",
  "compressionQuality": 0,
  "bandCount": 1,
  "lercError": 0
 },
 "tileInfo": {
  "spatialReference": {
   "wkid": 102100,
   "latestWkid": 3857
  },
  "origin": {
   "x": -2.0037508342787E7,
   "y": 2.0037508342787E7
  },
  "rows": 256,
  "cols": 256,
  "dpi": 96,
  "lods": [
   {
    "level": 0,
    "resolution": 156543.033928,
    "scale": 5.91657527591555E8
   },
   {
    "level": 1,
    "resolution": 78271.5169639999,
    "scale": 2.95828763795777E8
   },
   {
    "level": 2,
    "resolution": 39135.7584820001,
    "scale": 1.47914381897889E8
   },
   {
    "level": 3,
    "resolution": 19567.8792409999,
    "scale": 7.3957190948944E7
   },
   {
    "level": 4,
    "resolution": 9783.93962049996,
    "scale": 3.6978595474472E7
   },
   {
    "level": 5,
    "resolution": 4891.96981024998,
    "scale": 1.8489297737236E7
   },
   {
    "level": 6,
    "resolution": 2445.98490512499,
    "scale": 9244648.868618
   },
   {
    "level": 7,
    "resolution": 1222.99245256249,
    "scale": 4622324.434309
   },
   {
    "level": 8,
    "resolution": 611.49622628138,
    "scale": 2311162.217155
   },
   {
    "level": 9,
    "resolution": 305.748113140558,
    "scale": 1155581.108577
   },
   {
    "level": 10,
    "resolution": 152.874056570411,
    "scale": 577790.554289
   },
   {
    "level": 11,
    "resolution": 76.4370282850732,
    "scale": 288895.277144
   },
   {
    "level": 12,
    "resolution": 38.2185141425366,
    "scale": 144447.638572
   },
   {
    "level": 13,
    "resolution": 19.1092570712683,
    "scale": 72223.819286
   },
   {
    "level": 14,
    "resolution": 9.55462853563415,
    "scale": 36111.909643
   },
   {
    "level": 15,
    "resolution": 4.77731426794937,
    "scale": 18055.954822
   },
   {
    "level": 16,
    "resolution": 2.38865713397468,
    "scale": 9027.977411
   },
   {
    "level": 17,
    "resolution": 1.19432856685505,
    "scale": 4513.988705
   },
   {
    "level": 18,
    "resolution": 0.597164283559817,
    "scale": 2256.994353
   },
   {
    "level": 19,
    "resolution": 0.298582141647617,
    "scale": 1128.497176
   },
   {
    "level": 20,
    "resolution": 0.14929107082380833,
    "scale": 564.248588
   },
   {
    "level": 21,
    "resolution": 0.07464553541190416,
    "scale": 282.124294
   },
   {
    "level": 22,
    "resolution": 0.03732276770595208,
    "scale": 141.062147
   },
   {
    "level": 23,
    "resolution": 0.01866138385297604,
    "scale": 70.5310735
   }
  ],
  "format": "PNG",
  "compressionQuality": 0,
  "bandCount": 1,
  "lercError": 0,
  "storageFormat": "esriMapCacheStorageModeCompactV2",
  "packetSize": 128
 },
 "name": "schoolboardtiles05052023",
 "serviceDescription": "",
 "spatialReference": {
  "wkid": 102100,
  "latestWkid": 3857
 },
 "units": "esriMeters",
 "minLOD": 1,
 "maxLOD": 20,
 "resampling": true,
 "layers": [
  {
   "id": 0,
   "name": "schoolboard(txt)",
   "parentLayerId": -1,
   "defaultVisibility": true,
   "subLayerIds": null,
   "minScale": 72225,
   "maxScale": 0,
   "type": "Feature Layer",
   "geometryType": "esriGeometryPolygon",
   "legend": [
    {
     "label": "",
     "imageData": "iVBORw0KGgoAAAANSUhEUgAAABQAAAAUCAYAAACNiR0NAAAAAXNSR0IB2cksfwAAAAlwSFlzAAAOxAAADsQBlSsOGwAAABtJREFUOI1jYaAyYBk1cNTAUQNHDRw1cKQaCAAQKwBR5g8A3AAAAABJRU5ErkJggg==",
     "contentType": "image/png",
     "height": 20,
     "width": 20,
     "layerId": 0,
     "layerName": "schoolboard(txt)"
    }
   ],
   "layerId": 0,
   "layerName": "schoolboard(txt)",
   "serviceItemId": "0fe41cdacd5945c5a3b38638760573f6"
  },
  {
   "id": 1,
   "name": "schoolboard",
   "parentLayerId": -1,
   "defaultVisibility": true,
   "subLayerIds": null,
   "minScale": 0,
   "maxScale": 0,
   "type": "Feature Layer",
   "geometryType": "esriGeometryPolygon",
   "legend": [
    {
     "label": "1",
     "imageData": "iVBORw0KGgoAAAANSUhEUgAAABQAAAAUCAYAAACNiR0NAAAAAXNSR0IB2cksfwAAAAlwSFlzAAAOxAAADsQBlSsOGwAAAK5JREFUOI3t1L0NwkAMBeB3p7dBiohITHHZgQZKlrjCMzCDmwxBmYohbg2kFCmhOcnQofAnFK7N655lfZ1NAIgxBpINCqKqPQAwxhiccwcz25aAIpJUtSXJphQDADMLIrLjdOg3e6Cq50njADsdH/UJRFXDrdazvNtL58etgizgAi7gfHAc3m7zZ66X7+D0a/wbqmovIsnMQgnkvU8550QAUNVWRHYlYM45dV13vgMZeTlmiT56zQAAAABJRU5ErkJggg==",
     "contentType": "image/png",
     "height": 20,
     "width": 20,
     "values": [
      "1"
     ],
     "layerId": 1,
     "layerName": "schoolboard"
    },
    {
     "label": "2",
     "imageData": "iVBORw0KGgoAAAANSUhEUgAAABQAAAAUCAYAAACNiR0NAAAAAXNSR0IB2cksfwAAAAlwSFlzAAAOxAAADsQBlSsOGwAAAK5JREFUOI3t1LENwjAQBdDv6EsoRSRoswKlMwZZxMXNwAzXZJDM4ZIVqJFSRMLRiZIIhMC4ze/Op3tXnQkAIQRPskVBVHUEAIYQvHPubGanElBEoqp2JNmWYgBgZl5Eeq4f5/0RC5ssiMuE+nZ51uvmwgbz7pAF1q8LsqZ/yAZu4AZmg1ymt9v8Fmf3z+D61/g3VNVRRKKZ+RKoqqqYUooEAFXtRKQvAVNKcRiG6wMTwDnMETnFJwAAAABJRU5ErkJggg==",
     "contentType": "image/png",
     "height": 20,
     "width": 20,
     "values": [
      "2"
     ],
     "layerId": 1,
     "layerName": "schoolboard"
    },
    {
     "label": "3",
     "imageData": "iVBORw0KGgoAAAANSUhEUgAAABQAAAAUCAYAAACNiR0NAAAAAXNSR0IB2cksfwAAAAlwSFlzAAAOxAAADsQBlSsOGwAAALZJREFUOI3t0zEKg0AQBdCvDBiC2KXQTsgN1mPEi2wxZ8gZpvEgnmNvIKRLCjuxMUuGdCEWFuu2/u4Pn9cNAYC11hBRhYiISA8AZK01SZLcVfUWAzKzE5GGiKiKxQBAVQ0zt/R/fF2umLI8CCqWGeU4/PoKnLIcj3MRBNYAyr9OW8O9OcADPMBgsFhm1IHA6fPeBstxWD36npCI9MzsVNXEQGmaOu+9IwAQkYaZ2xjQe++6rnt+AaxWOi5zGu49AAAAAElFTkSuQmCC",
     "contentType": "image/png",
     "height": 20,
     "width": 20,
     "values": [
      "3"
     ],
     "layerId": 1,
     "layerName": "schoolboard"
    },
    {
     "label": "4",
     "imageData": "iVBORw0KGgoAAAANSUhEUgAAABQAAAAUCAYAAACNiR0NAAAAAXNSR0IB2cksfwAAAAlwSFlzAAAOxAAADsQBlSsOGwAAALJJREFUOI3t0zEKhEAMBdA/EtZCthMEYU8xHmOt9hZT5Ax7hjSewspzzDUEYbe0kJGw3aKFxTitv0pCeKQJAYBzzhJRjYSIyAAA5Jyzxpi3qj5TQGb2ItIQEdWpGACoqmXmlrbDT/3CnFdRULFMKMf+3+/AOa/wvT+irys3NR1uncwFXuAFRoPFMkUDt3U+Bsux3z36mZCIDMzsVdWmQFmW+RCCJwAQkYaZ2xQwhOC7rht/ctI5wUjysT4AAAAASUVORK5CYII=",
     "contentType": "image/png",
     "height": 20,
     "width": 20,
     "values": [
      "4"
     ],
     "layerId": 1,
     "layerName": "schoolboard"
    },
    {
     "label": "5",
     "imageData": "iVBORw0KGgoAAAANSUhEUgAAABQAAAAUCAYAAACNiR0NAAAAAXNSR0IB2cksfwAAAAlwSFlzAAAOxAAADsQBlSsOGwAAAK9JREFUOI3t1CEKw0AQheGXZWQohFAocT3DBuqrm4usmDP0DGNykPj6ij1DXV2ICQS6MNSVRFRst3J/NyM+Rg0BgHPOElGDhERkAAByztmiKK6qekkBmdmLSEtE1KRiAKCqlpk7Wi+PpzPKqo6C5mnE4377zBuwrGrs9oeUQ7fgP8pgBjMYDc7TGA28luU7uP4av0YiMjCzV1WbAhljfAjBEwCISMvMXQoYQvB93z/fovA6bZ1j1JwAAAAASUVORK5CYII=",
     "contentType": "image/png",
     "height": 20,
     "width": 20,
     "values": [
      "5"
     ],
     "layerId": 1,
     "layerName": "schoolboard"
    }
   ],
   "layerId": 1,
   "layerName": "schoolboard",
   "serviceItemId": "0fe41cdacd5945c5a3b38638760573f6"
  }
 ],
 "initialExtent": {
  "xmin": -9202291.058726363,
  "ymin": 3428611.1508487957,
  "xmax": -9133063.82722137,
  "ymax": 3496792.9697060706,
  "spatialReference": {
   "wkid": 102100,
   "latestWkid": 3857
  }
 },
 "fullExtent": {
  "xmin": -9202291.058726363,
  "ymin": 3428611.1508487957,
  "xmax": -9133063.82722137,
  "ymax": 3496792.9697060706,
  "spatialReference": {
   "wkid": 102100,
   "latestWkid": 3857
  }
 },
 "minScale": 0,
 "maxScale": 0,
 "exportTilesAllowed": false,
 "maxExportTilesCount": 0,
 "currentVersion": 11.5,
 "mapName": "schoolboardtiles05052023",
 "singleFusedMapCache": true,
 "type": "MapServer",
 "supportedExtensions": "",
 "capabilities": "TilesOnly,Tilemap",
 "serviceItemId": "0fe41cdacd5945c5a3b38638760573f6"
}
