{
 "version": 1.0,
 "tileBundlesPath": "./tile",
 "storageInfo": {
  "packetSize": 128,
  "storageFormat": "esriMapCacheStorageModeCompactV2"
 },
 "tileInfo": {
  "spatialReference": {
   "wkid": 102100,
   "latestWkid": 3857
  },
  "origin": {
   "x": -2.0037508342787E7,
   "y": 2.0037508342787E7
  },
  "rows": 256,
  "cols": 256,
  "dpi": 96,
  "lods": [
   {
    "level": 0,
    "resolution": 156543.033928,
    "scale": 5.91657527591555E8
   },
   {
    "level": 1,
    "resolution": 78271.5169639999,
    "scale": 2.95828763795777E8
   },
   {
    "level": 2,
    "resolution": 39135.7584820001,
    "scale": 1.47914381897889E8
   },
   {
    "level": 3,
    "resolution": 19567.8792409999,
    "scale": 7.3957190948944E7
   },
   {
    "level": 4,
    "resolution": 9783.93962049996,
    "scale": 3.6978595474472E7
   },
   {
    "level": 5,
    "resolution": 4891.96981024998,
    "scale": 1.8489297737236E7
   },
   {
    "level": 6,
    "resolution": 2445.98490512499,
    "scale": 9244648.868618
   },
   {
    "level": 7,
    "resolution": 1222.99245256249,
    "scale": 4622324.434309
   },
   {
    "level": 8,
    "resolution": 611.49622628138,
    "scale": 2311162.217155
   },
   {
    "level": 9,
    "resolution": 305.748113140558,
    "scale": 1155581.108577
   },
   {
    "level": 10,
    "resolution": 152.874056570411,
    "scale": 577790.554289
   },
   {
    "level": 11,
    "resolution": 76.4370282850732,
    "scale": 288895.277144
   },
   {
    "level": 12,
    "resolution": 38.2185141425366,
    "scale": 144447.638572
   },
   {
    "level": 13,
    "resolution": 19.1092570712683,
    "scale": 72223.819286
   },
   {
    "level": 14,
    "resolution": 9.55462853563415,
    "scale": 36111.909643
   },
   {
    "level": 15,
    "resolution": 4.77731426794937,
    "scale": 18055.954822
   },
   {
    "level": 16,
    "resolution": 2.38865713397468,
    "scale": 9027.977411
   },
   {
    "level": 17,
    "resolution": 1.19432856685505,
    "scale": 4513.988705
   },
   {
    "level": 18,
    "resolution": 0.597164283559817,
    "scale": 2256.994353
   },
   {
    "level": 19,
    "resolution": 0.298582141647617,
    "scale": 1128.497176
   },
   {
    "level": 20,
    "resolution": 0.14929107082380833,
    "scale": 564.248588
   },
   {
    "level": 21,
    "resolution": 0.07464553541190416,
    "scale": 282.124294
   },
   {
    "level": 22,
    "resolution": 0.03732276770595208,
    "scale": 141.062147
   },
   {
    "level": 23,
    "resolution": 0.01866138385297604,
    "scale": 70.5310735
   }
  ],
  "format": "PNG",
  "compressionQuality": 0,
  "bandCount": 1,
  "lercError": 0,
  "storageFormat": "esriMapCacheStorageModeCompactV2",
  "packetSize": 128
 },
 "tileImageInfo": {
  "format": "PNG",
  "compressionQuality": 0,
  "bandCount": 1,
  "lercError": 0
 },
 "name": "HistoricZoningTiles17",
 "serviceDescription": "",
 "spatialReference": {
  "wkid": 102100,
  "latestWkid": 3857
 },
 "units": "esriMeters",
 "minLOD": 1,
 "maxLOD": 17,
 "resampling": true,
 "layers": [
  {
   "id": 0,
   "name": "county",
   "parentLayerId": -1,
   "defaultVisibility": true,
   "subLayerIds": null,
   "minScale": 0,
   "maxScale": 0,
   "type": "Feature Layer",
   "geometryType": "esriGeometryPolygon",
   "legend": [
    {
     "label": "",
     "imageData": "iVBORw0KGgoAAAANSUhEUgAAABQAAAAUCAYAAACNiR0NAAAAAXNSR0IB2cksfwAAAAlwSFlzAAAOxAAADsQBlSsOGwAAABtJREFUOI1jYaAyYBk1cNTAUQNHDRw1cKQaCAAQKwBR5g8A3AAAAABJRU5ErkJggg==",
     "contentType": "image/png",
     "height": 20,
     "width": 20,
     "layerId": 0,
     "layerName": "county"
    }
   ],
   "layerId": 0,
   "layerName": "county",
   "serviceItemId": "081aaac34b164ddc9fd49d47aa317b78"
  },
  {
   "id": 1,
   "name": "ZoningImagery",
   "parentLayerId": -1,
   "defaultVisibility": true,
   "subLayerIds": [
    2,
    3,
    4
   ],
   "minScale": 0,
   "maxScale": 0,
   "type": "Mosaic Layer",
   "layerId": 1,
   "layerName": "ZoningImagery",
   "serviceItemId": "081aaac34b164ddc9fd49d47aa317b78"
  },
  {
   "id": 2,
   "name": "Boundary",
   "parentLayerId": 1,
   "defaultVisibility": false,
   "subLayerIds": null,
   "minScale": 0,
   "maxScale": 0,
   "type": "Feature Layer",
   "geometryType": "esriGeometryPolygon",
   "legend": [
    {
     "label": "",
     "imageData": "iVBORw0KGgoAAAANSUhEUgAAABQAAAAUCAYAAACNiR0NAAAAAXNSR0IB2cksfwAAAAlwSFlzAAAOxAAADsQBlSsOGwAAAGpJREFUOI3tlLENgEAIRYGQMJBrOBQL3kA0HwtzF7UwEa3MvYqCPKie0sdoH2DwNyIJ8SGEwTl4SctWkXHwCgNJiI8P07L1K0+BYcx6s1diCqdwCn8m7AmqcEyfEu1xrMqIzukbH1ZbeGUDHR0mg2HgIh4AAAAASUVORK5CYII=",
     "contentType": "image/png",
     "height": 20,
     "width": 20,
     "layerId": 2,
     "layerName": "Boundary"
    }
   ],
   "layerId": 2,
   "layerName": "Boundary",
   "serviceItemId": "081aaac34b164ddc9fd49d47aa317b78"
  },
  {
   "id": 3,
   "name": "Footprint",
   "parentLayerId": 1,
   "defaultVisibility": true,
   "subLayerIds": null,
   "minScale": 0,
   "maxScale": 0,
   "type": "Feature Layer",
   "geometryType": "esriGeometryPolygon",
   "legend": [
    {
     "label": "",
     "imageData": "iVBORw0KGgoAAAANSUhEUgAAABQAAAAUCAYAAACNiR0NAAAAAXNSR0IB2cksfwAAAAlwSFlzAAAOxAAADsQBlSsOGwAAABtJREFUOI1jYaAyYBk1cNTAUQNHDRw1cKQaCAAQKwBR5g8A3AAAAABJRU5ErkJggg==",
     "contentType": "image/png",
     "height": 20,
     "width": 20,
     "layerId": 3,
     "layerName": "Footprint"
    }
   ],
   "layerId": 3,
   "layerName": "Footprint",
   "serviceItemId": "081aaac34b164ddc9fd49d47aa317b78"
  },
  {
   "id": 4,
   "name": "Image",
   "parentLayerId": 1,
   "defaultVisibility": true,
   "subLayerIds": null,
   "minScale": 0,
   "maxScale": 0,
   "type": "Raster Layer",
   "legend": [
    {
     "label": "High : 1",
     "imageData": "iVBORw0KGgoAAAANSUhEUgAAABQAAAAUCAYAAACNiR0NAAAAAXNSR0IB2cksfwAAAAlwSFlzAAAOxAAADsQBlSsOGwAAAEBJREFUOI1j+ffv338GKgKWP3/+UNM8Ghj4+/dv6hr49+9f6hpIdReOQC8P/mQz+HPKaBhSbuDgz3q/fv2iqoEAILk8VJAlIPcAAAAASUVORK5CYII=",
     "contentType": "image/png",
     "height": 20,
     "width": 20,
     "layerId": 4,
     "layerName": "Image"
    },
    {
     "label": "",
     "imageData": "iVBORw0KGgoAAAANSUhEUgAAABQAAAAUCAYAAACNiR0NAAAAAXNSR0IB2cksfwAAAAlwSFlzAAAOxAAADsQBlSsOGwAAAEBJREFUOI1jWbFixX8GKgKWP3/+UNO8EWngr1+/qGvg4Pcy1Q38/fs3dQ38+/cvdQ0c/F4eTYeUG0j1ZDPoEzYAvsc7WI56PNwAAAAASUVORK5CYII=",
     "contentType": "image/png",
     "height": 20,
     "width": 20,
     "layerId": 4,
     "layerName": "Image"
    },
    {
     "label": "Low : 0",
     "imageData": "iVBORw0KGgoAAAANSUhEUgAAABQAAAAUCAYAAACNiR0NAAAAAXNSR0IB2cksfwAAAAlwSFlzAAAOxAAADsQBlSsOGwAAAFJJREFUOI3N0ksNwAAIBNE9YBH/KjjwbU1MkyLgJTCYuz8Cx6qK9GQz83Owu1nw7lgQj7K7LJiZLIhHwd8GvyG+Mv42eGVUk2QRwYKo9glIR3kB9hgxUFvDFqgAAAAASUVORK5CYII=",
     "contentType": "image/png",
     "height": 20,
     "width": 20,
     "layerId": 4,
     "layerName": "Image"
    }
   ],
   "layerId": 4,
   "layerName": "Image",
   "serviceItemId": "081aaac34b164ddc9fd49d47aa317b78"
  }
 ],
 "initialExtent": {
  "xmin": -1.0097833477274213E7,
  "ymin": 3357072.916293783,
  "xmax": -9132705.567247331,
  "ymax": 3498904.3303618543,
  "spatialReference": {
   "wkid": 102100,
   "latestWkid": 3857
  }
 },
 "fullExtent": {
  "xmin": -1.0097833477274213E7,
  "ymin": 3357072.916293783,
  "xmax": -9132705.567247331,
  "ymax": 3498904.3303618543,
  "spatialReference": {
   "wkid": 102100,
   "latestWkid": 3857
  }
 },
 "minScale": 0,
 "maxScale": 0,
 "exportTilesAllowed": false,
 "maxExportTilesCount": 0,
 "currentVersion": 11.5,
 "mapName": "HistoricZoningTiles17",
 "singleFusedMapCache": true,
 "type": "MapServer",
 "supportedExtensions": "",
 "capabilities": "TilesOnly,Tilemap",
 "serviceItemId": "081aaac34b164ddc9fd49d47aa317b78"
}
